BEGIN:VCALENDAR
VERSION:2.0
PRODID:-//Premesques - ECPv5.7.0//NONSGML v1.0//EN
CALSCALE:GREGORIAN
METHOD:PUBLISH
X-WR-CALNAME:Premesques
X-ORIGINAL-URL:https://premesques.fr
X-WR-CALDESC:évènements pour Premesques
BEGIN:VTIMEZONE
TZID:Europe/Paris
BEGIN:DAYLIGHT
TZOFFSETFROM:+0100
TZOFFSETTO:+0200
TZNAME:CEST
DTSTART:20190331T010000
END:DAYLIGHT
BEGIN:STANDARD
TZOFFSETFROM:+0200
TZOFFSETTO:+0100
TZNAME:CET
DTSTART:20191027T010000
END:STANDARD
END:VTIMEZONE
BEGIN:VEVENT
DTSTART;TZID=Europe/Paris:20190427T080000
DTEND;TZID=Europe/Paris:20190427T120000
DTSTAMP:20260425T153916
CREATED:20190403T091336Z
LAST-MODIFIED:20190403T091336Z
UID:5017-1556352000-1556366400@premesques.fr
SUMMARY:Don du sang
DESCRIPTION:
URL:https://premesques.fr/event/don-du-sang-4/
LOCATION:Salle SCHUMANN\, Place Roger Dutriez\, Pérenchies\, 59840\, France
ATTACH;FMTTYPE=image/jpeg:https://premesques.fr/wp-content/uploads/2018/02/efs.jpg
END:VEVENT
BEGIN:VEVENT
DTSTART;TZID=Europe/Paris:20190427T100000
DTEND;TZID=Europe/Paris:20190427T120000
DTSTAMP:20260425T153916
CREATED:20190405T074152Z
LAST-MODIFIED:20190405T074152Z
UID:5045-1556359200-1556366400@premesques.fr
SUMMARY:Café littéraire "Amour et émotions"
DESCRIPTION:
URL:https://premesques.fr/event/cafe-litteraire-amour-et-emotions/
LOCATION:Maison des Associations\, 258 rue du Retour\, Prémesques\, 59840\, France Métropolitaine
ATTACH;FMTTYPE=image/jpeg:https://premesques.fr/wp-content/uploads/2018/05/café-litt.jpg
END:VEVENT
END:VCALENDAR