BEGIN:VCALENDAR
VERSION:2.0
PRODID:-//Premesques - ECPv5.7.0//NONSGML v1.0//EN
CALSCALE:GREGORIAN
METHOD:PUBLISH
X-WR-CALNAME:Premesques
X-ORIGINAL-URL:https://premesques.fr
X-WR-CALDESC:évènements pour Premesques
BEGIN:VTIMEZONE
TZID:Europe/Paris
BEGIN:DAYLIGHT
TZOFFSETFROM:+0100
TZOFFSETTO:+0200
TZNAME:CEST
DTSTART:20200329T010000
END:DAYLIGHT
BEGIN:STANDARD
TZOFFSETFROM:+0200
TZOFFSETTO:+0100
TZNAME:CET
DTSTART:20201025T010000
END:STANDARD
END:VTIMEZONE
BEGIN:VEVENT
DTSTART;TZID=Europe/Paris:20200204T093000
DTEND;TZID=Europe/Paris:20200204T113000
DTSTAMP:20260425T124938
CREATED:20200114T101944Z
LAST-MODIFIED:20200114T101944Z
UID:6075-1580808600-1580815800@premesques.fr
SUMMARY:VIOLENCES CONJUGALES
DESCRIPTION:Dans le cadre de son plan d’action égalité femmes-hommes 2016-2020\, la Métropole Européenne de Lille organise sur le territoire métropolitain une rencontre de sensibilisation sur les violences conjugales. \nCette sensibilisation\, d’une durée de 2 heures\, sera animée par Sandrine Ballonet\, référente départementale Violences conjugales auprès de la préfecture. \nCette rencontre est ouverte à tou.te.s mais s’adressent en priorité aux travailleurs sociaux et travailleuses sociales\, aux professionnel.le.s de santé\, des ressources humaines\, de l’enfance et de la police. \nL’objectif est de permettre aux participant.e.s de mieux comprendre le processus des violences conjugales et de connaître la législation en vigueur pour mieux repérer\, soutenir\, informer\, accompagner et orienter les victimes. \nCette rencontre aura lieu : \nLe 4 février 2020 \nDe 9h30 à 11h30 \n141 rue de la Carnoy (parc de la Mairie) \nà LAMBERSART \nIl est préférable de s’inscrire au préalable\, soit par mail : bduflot@ville-lambersart.fr\, soit par téléphone au 03.20.08.44.60.
URL:https://premesques.fr/event/violences-conjugales/
ATTACH;FMTTYPE=image/png:https://premesques.fr/wp-content/uploads/2019/11/arrêtons-les-violences-conjugales.png
END:VEVENT
END:VCALENDAR