BEGIN:VCALENDAR
VERSION:2.0
PRODID:-//Premesques - ECPv5.7.0//NONSGML v1.0//EN
CALSCALE:GREGORIAN
METHOD:PUBLISH
X-WR-CALNAME:Premesques
X-ORIGINAL-URL:https://premesques.fr
X-WR-CALDESC:évènements pour Premesques
BEGIN:VTIMEZONE
TZID:Europe/Paris
BEGIN:DAYLIGHT
TZOFFSETFROM:+0100
TZOFFSETTO:+0200
TZNAME:CEST
DTSTART:20190331T010000
END:DAYLIGHT
BEGIN:STANDARD
TZOFFSETFROM:+0200
TZOFFSETTO:+0100
TZNAME:CET
DTSTART:20191027T010000
END:STANDARD
END:VTIMEZONE
BEGIN:VEVENT
DTSTART;TZID=Europe/Paris:20190126T140000
DTEND;TZID=Europe/Paris:20190126T190000
DTSTAMP:20260425T195502
CREATED:20190107T073105Z
LAST-MODIFIED:20190107T073106Z
UID:4787-1548511200-1548529200@premesques.fr
SUMMARY:Tournoi de belote avec l'association Le carré d'As Prémesquois
DESCRIPTION:
URL:https://premesques.fr/event/tournoi-de-belote-avec-lassociation-le-carre-das-premesquois/
ATTACH;FMTTYPE=image/png:https://premesques.fr/wp-content/uploads/2018/12/Image-mise-en-avant-belote.png
ORGANIZER;CN="Le%20carr%C3%A9%20d%27As%20Pr%C3%A9mesquois":MAILTO:assolecarredas@free.fr
END:VEVENT
END:VCALENDAR