BEGIN:VCALENDAR
VERSION:2.0
PRODID:-//Premesques - ECPv5.7.0//NONSGML v1.0//EN
CALSCALE:GREGORIAN
METHOD:PUBLISH
X-WR-CALNAME:Premesques
X-ORIGINAL-URL:https://premesques.fr
X-WR-CALDESC:évènements pour Premesques
BEGIN:VTIMEZONE
TZID:Europe/Paris
BEGIN:DAYLIGHT
TZOFFSETFROM:+0100
TZOFFSETTO:+0200
TZNAME:CEST
DTSTART:20220327T010000
END:DAYLIGHT
BEGIN:STANDARD
TZOFFSETFROM:+0200
TZOFFSETTO:+0100
TZNAME:CET
DTSTART:20221030T010000
END:STANDARD
END:VTIMEZONE
BEGIN:VEVENT
DTSTART;TZID=Europe/Paris:20220326T193000
DTEND;TZID=Europe/Paris:20220326T235900
DTSTAMP:20260424T101859
CREATED:20220308T134920Z
LAST-MODIFIED:20220308T135249Z
UID:8648-1648323000-1648339140@premesques.fr
SUMMARY:Repas familial par l'Association des Chasseurs Prémesquois
DESCRIPTION:Ci-contre le coupon à télécharger : coupon repas familial de l’Association des Chasseurs Prémesquois
URL:https://premesques.fr/event/repas-familial-couscous/
LOCATION:salle Saint Laurent\, PL JEAN BAPTISTE LEBAS\, PREMESQUES\, 59840
ATTACH;FMTTYPE=image/jpeg:https://premesques.fr/wp-content/uploads/2020/03/couscous.jpg
END:VEVENT
END:VCALENDAR