BEGIN:VCALENDAR
VERSION:2.0
PRODID:-//Premesques - ECPv5.7.0//NONSGML v1.0//EN
CALSCALE:GREGORIAN
METHOD:PUBLISH
X-WR-CALNAME:Premesques
X-ORIGINAL-URL:https://premesques.fr
X-WR-CALDESC:évènements pour Premesques
BEGIN:VTIMEZONE
TZID:Europe/Paris
BEGIN:DAYLIGHT
TZOFFSETFROM:+0100
TZOFFSETTO:+0200
TZNAME:CEST
DTSTART:20220327T010000
END:DAYLIGHT
BEGIN:STANDARD
TZOFFSETFROM:+0200
TZOFFSETTO:+0100
TZNAME:CET
DTSTART:20221030T010000
END:STANDARD
END:VTIMEZONE
BEGIN:VEVENT
DTSTART;TZID=Europe/Paris:20220522T093000
DTEND;TZID=Europe/Paris:20220522T120000
DTSTAMP:20260421T142905
CREATED:20220401T073756Z
LAST-MODIFIED:20220506T144946Z
UID:8708-1653211800-1653220800@premesques.fr
SUMMARY:Parcours du Coeur
DESCRIPTION:Parcours du Cœur \nRdv à 9h45 à la Salle des Sports rue des Ecoles. Le départ se fera en groupe à 10h00. Pour la photo\, soyez ponctuels ! Une collation vous attend à l’issue du parcours. \nPlusieurs parcours vous seront proposés. Choisissez celui qui vous convient le mieux et venez nombreux en famille ou entre amis\, vous rencontrerez des personnes de différents quartiers de notre village. \nMerci de vous inscrire en complétant le formulaire disponible via ce lien : bit.ly/3OQ8uY2 avant le 14 mai 2022\, ou en complétant un bulletin de participation disponible à l’accueil de la mairie \nMerci aux participants et pensons toujours au slogan « J’aime mon cœur\, j’en prends soin ». \n  \nSportivement \nNathalie GUISLAIN
URL:https://premesques.fr/event/parcours-du-coeur/
LOCATION:Salle des Sports\, rue des Ecoles\, PREMESQUES\, 59840\, France
ATTACH;FMTTYPE=image/png:https://premesques.fr/wp-content/uploads/2022/04/Logo-Parcours-du-Coeur-basket-1024x299-1.png
END:VEVENT
END:VCALENDAR