BEGIN:VCALENDAR
VERSION:2.0
PRODID:-//Premesques - ECPv5.7.0//NONSGML v1.0//EN
CALSCALE:GREGORIAN
METHOD:PUBLISH
X-WR-CALNAME:Premesques
X-ORIGINAL-URL:https://premesques.fr
X-WR-CALDESC:évènements pour Premesques
BEGIN:VTIMEZONE
TZID:Europe/Paris
BEGIN:DAYLIGHT
TZOFFSETFROM:+0100
TZOFFSETTO:+0200
TZNAME:CEST
DTSTART:20190331T010000
END:DAYLIGHT
BEGIN:STANDARD
TZOFFSETFROM:+0200
TZOFFSETTO:+0100
TZNAME:CET
DTSTART:20191027T010000
END:STANDARD
END:VTIMEZONE
BEGIN:VEVENT
DTSTART;TZID=Europe/Paris:20190323T150000
DTEND;TZID=Europe/Paris:20190323T180000
DTSTAMP:20260425T172224
CREATED:20190318T105551Z
LAST-MODIFIED:20190318T110418Z
UID:4979-1553353200-1553364000@premesques.fr
SUMMARY:Opération "Hauts de France Propres" - Prémesques participe
DESCRIPTION:Le samedi 23 mars prochain\, Prémesques participe à la manifestation “Hauts-de-France Propres” organisée par la Région. Rendez-vous à partir de 15h à la base de loisirs pour cette opération de nettoyage de la nature ! Du matériel (gants\, sacs-poubelle\, chasubles pour 10 personnes) vous y attend. A très bientôt !
URL:https://premesques.fr/event/operation-hauts-de-france-propres-premesques-participe/
LOCATION:Base de Loisirs\, rue de la Coeuillerie\, Prémesques\, France
ATTACH;FMTTYPE=image/jpeg:https://premesques.fr/wp-content/uploads/2019/03/HDF-PROPRE_FACEBOOK-EVENEMENT-1920x1080.jpg
END:VEVENT
END:VCALENDAR