BEGIN:VCALENDAR
VERSION:2.0
PRODID:-//Premesques - ECPv5.7.0//NONSGML v1.0//EN
CALSCALE:GREGORIAN
METHOD:PUBLISH
X-WR-CALNAME:Premesques
X-ORIGINAL-URL:https://premesques.fr
X-WR-CALDESC:évènements pour Premesques
BEGIN:VTIMEZONE
TZID:Europe/Paris
BEGIN:DAYLIGHT
TZOFFSETFROM:+0100
TZOFFSETTO:+0200
TZNAME:CEST
DTSTART:20250330T010000
END:DAYLIGHT
BEGIN:STANDARD
TZOFFSETFROM:+0200
TZOFFSETTO:+0100
TZNAME:CET
DTSTART:20251026T010000
END:STANDARD
END:VTIMEZONE
BEGIN:VEVENT
DTSTART;TZID=Europe/Paris:20250419T100000
DTEND;TZID=Europe/Paris:20250421T233000
DTSTAMP:20260421T100111
CREATED:20250419T080053Z
LAST-MODIFIED:20250418T065311Z
UID:12148-1745056800-1745278200@premesques.fr
SUMMARY:La Grande Chasse aux Énigm’œufs de Pâques 2025 est lancée !
DESCRIPTION:Le défi est lancé : tout au long du week-end de Pâques\, partez à la découverte des énigmes disséminées dans la commune. \nEn sillonnant les rues à la recherche d’indices\, les participants devront faire preuve d’observation et de logique pour trouver le mot mystère. \nUn moment ludique et familial à partager ! \nToutes les informations pratiques sont disponibles ci-dessous. \nBonne chasse et bon jeu à tous !
URL:https://premesques.fr/event/la-grande-chasse-aux-enigmoeufs-de-paques-2025-est-lancee/
ATTACH;FMTTYPE=image/jpeg:https://premesques.fr/wp-content/uploads/2025/04/article-1110x338-chasse-aux-oeufs-2023.jpg
END:VEVENT
END:VCALENDAR