BEGIN:VCALENDAR
VERSION:2.0
PRODID:-//Premesques - ECPv5.7.0//NONSGML v1.0//EN
CALSCALE:GREGORIAN
METHOD:PUBLISH
X-WR-CALNAME:Premesques
X-ORIGINAL-URL:https://premesques.fr
X-WR-CALDESC:évènements pour Premesques
BEGIN:VTIMEZONE
TZID:Europe/Paris
BEGIN:DAYLIGHT
TZOFFSETFROM:+0100
TZOFFSETTO:+0200
TZNAME:CEST
DTSTART:20250330T010000
END:DAYLIGHT
BEGIN:STANDARD
TZOFFSETFROM:+0200
TZOFFSETTO:+0100
TZNAME:CET
DTSTART:20251026T010000
END:STANDARD
END:VTIMEZONE
BEGIN:VEVENT
DTSTART;TZID=Europe/Paris:20250430T163000
DTEND;TZID=Europe/Paris:20250430T173000
DTSTAMP:20260425T193006
CREATED:20250422T152445Z
LAST-MODIFIED:20250422T152445Z
UID:12170-1746030600-1746034200@premesques.fr
SUMMARY:Heure du conte : Alice au pays des merveilles
DESCRIPTION:Le mercredi 30 avril\, de 16h30 à 17h30\, la Maison des Associations (258 rue du Retour) accueillera les enfants de 3 à 6 ans pour une heure du conte exceptionnelle. Cette séance\, qui fait partie de “The Little Collection Livraria Lello / Porto”\, propose aux jeunes lecteurs de plonger dans l’univers magique d’Alice au pays des merveilles\, un récit classique qui mêle aventure\, imagination et suspens. \nCet événement est une belle occasion pour les enfants de vivre une expérience unique à travers le conte et de stimuler leur curiosité tout en découvrant les merveilles de l’imaginaire. \nTarifs : \n\n\nGratuit pour les enfants inscrits en bibliothèque \n\n\n0\,5 € pour les non-inscrits \n\n\nCet événement s’inscrit dans le cadre de la “The Little Collection Livraria Lello / Porto”\, une série d’activités littéraires qui a pour objectif de faire découvrir aux plus jeunes des récits emblématiques et de les initier à l’amour des livres. \nVenez nombreux\, laissez-vous emporter par le monde fantastique d’Alice et partagez un moment de lecture et d’évasion en famille. \n\nInformations pratiques : \n\n\nDate : Mercredi 30 avril \n\n\nHoraire : 16h30 – 17h30 \n\n\nLieu : Maison des Associations\, 258 rue du Retour \n\n\nPublic : Enfants de 3 à 6 ans \n\n\nTarifs : Gratuit pour les inscrits en bibliothèque\, 0\,5 € pour les non-inscrits. \n\n\nPour plus d’informations\, n’hésitez pas à contacter la bibliothèque ou à vous inscrire directement sur place.
URL:https://premesques.fr/event/heure-du-conte-alice-au-pays-des-merveilles/
LOCATION:Maison des Associations\, 258 rue du Retour\, Prémesques\, 59840\, France Métropolitaine
ATTACH;FMTTYPE=image/jpeg:https://premesques.fr/wp-content/uploads/2025/04/heurecontefr-1170x585-1.jpg
END:VEVENT
END:VCALENDAR