BEGIN:VCALENDAR
VERSION:2.0
PRODID:-//Premesques - ECPv5.7.0//NONSGML v1.0//EN
CALSCALE:GREGORIAN
METHOD:PUBLISH
X-WR-CALNAME:Premesques
X-ORIGINAL-URL:https://premesques.fr
X-WR-CALDESC:évènements pour Premesques
BEGIN:VTIMEZONE
TZID:Europe/Paris
BEGIN:DAYLIGHT
TZOFFSETFROM:+0100
TZOFFSETTO:+0200
TZNAME:CEST
DTSTART:20190331T010000
END:DAYLIGHT
BEGIN:STANDARD
TZOFFSETFROM:+0200
TZOFFSETTO:+0100
TZNAME:CET
DTSTART:20191027T010000
END:STANDARD
END:VTIMEZONE
BEGIN:VEVENT
DTSTART;TZID=Europe/Paris:20190306T163000
DTEND;TZID=Europe/Paris:20190306T173000
DTSTAMP:20260425T165902
CREATED:20190304T074023Z
LAST-MODIFIED:20190304T074023Z
UID:4945-1551889800-1551893400@premesques.fr
SUMMARY:Heure du Conte
DESCRIPTION:Le mercredi 6 mars  de 16h30 à 17h30 \nEnfants de 3 à 6 ans \nMaison des associations à PREMESQUES \nGratuit pour les inscrits en Bibliothèque ; 0\,50 € par enfant non inscrit
URL:https://premesques.fr/event/heure-du-conte-7/
LOCATION:Maison des Associations\, 258 rue du Retour\, Prémesques\, 59840\, France Métropolitaine
END:VEVENT
END:VCALENDAR