BEGIN:VCALENDAR
VERSION:2.0
PRODID:-//Premesques - ECPv5.7.0//NONSGML v1.0//EN
CALSCALE:GREGORIAN
METHOD:PUBLISH
X-WR-CALNAME:Premesques
X-ORIGINAL-URL:https://premesques.fr
X-WR-CALDESC:évènements pour Premesques
BEGIN:VTIMEZONE
TZID:Europe/Paris
BEGIN:DAYLIGHT
TZOFFSETFROM:+0100
TZOFFSETTO:+0200
TZNAME:CEST
DTSTART:20180325T010000
END:DAYLIGHT
BEGIN:STANDARD
TZOFFSETFROM:+0200
TZOFFSETTO:+0100
TZNAME:CET
DTSTART:20181028T010000
END:STANDARD
END:VTIMEZONE
BEGIN:VEVENT
DTSTART;TZID=Europe/Paris:20181212T163000
DTEND;TZID=Europe/Paris:20181212T173000
DTSTAMP:20260425T205024
CREATED:20181206T132738Z
LAST-MODIFIED:20181206T132738Z
UID:4753-1544632200-1544635800@premesques.fr
SUMMARY:Heure du conte
DESCRIPTION:Mercredi 12 décembre de 16h30 à 17h30 à la maison des associations \n \n 
URL:https://premesques.fr/event/heure-du-conte-5/
LOCATION:Maison des Associations\, 258 rue du Retour\, Prémesques\, 59840\, France Métropolitaine
ATTACH;FMTTYPE=image/jpeg:https://premesques.fr/wp-content/uploads/2018/05/bibliothèque-pour-tous-logo.jpg
END:VEVENT
END:VCALENDAR