BEGIN:VCALENDAR
VERSION:2.0
PRODID:-//Premesques - ECPv5.7.0//NONSGML v1.0//EN
CALSCALE:GREGORIAN
METHOD:PUBLISH
X-WR-CALNAME:Premesques
X-ORIGINAL-URL:https://premesques.fr
X-WR-CALDESC:évènements pour Premesques
BEGIN:VTIMEZONE
TZID:Europe/Paris
BEGIN:DAYLIGHT
TZOFFSETFROM:+0100
TZOFFSETTO:+0200
TZNAME:CEST
DTSTART:20190331T010000
END:DAYLIGHT
BEGIN:STANDARD
TZOFFSETFROM:+0200
TZOFFSETTO:+0100
TZNAME:CET
DTSTART:20191027T010000
END:STANDARD
END:VTIMEZONE
BEGIN:VEVENT
DTSTART;TZID=Europe/Paris:20191106T163000
DTEND;TZID=Europe/Paris:20191106T173000
DTSTAMP:20260425T053533
CREATED:20191030T153237Z
LAST-MODIFIED:20191030T153237Z
UID:5760-1573057800-1573061400@premesques.fr
SUMMARY:Heure du conte
DESCRIPTION: La Bibliothèque pour Tous propose aux enfants de 3 à 6 ans l’heure du conte. \nLe mercredi 6 novembre de 16h30 à 17h30 \n Gratuit pour les inscrits en Bibliothèque \n0\,50 € par enfant non inscrit
URL:https://premesques.fr/event/heure-du-conte-10/
LOCATION:Maison des Associations\, 258 rue du Retour\, Prémesques\, 59840\, France Métropolitaine
END:VEVENT
END:VCALENDAR