BEGIN:VCALENDAR
VERSION:2.0
PRODID:-//Premesques - ECPv5.7.0//NONSGML v1.0//EN
CALSCALE:GREGORIAN
METHOD:PUBLISH
X-WR-CALNAME:Premesques
X-ORIGINAL-URL:https://premesques.fr
X-WR-CALDESC:évènements pour Premesques
BEGIN:VTIMEZONE
TZID:Europe/Paris
BEGIN:DAYLIGHT
TZOFFSETFROM:+0100
TZOFFSETTO:+0200
TZNAME:CEST
DTSTART:20220327T010000
END:DAYLIGHT
BEGIN:STANDARD
TZOFFSETFROM:+0200
TZOFFSETTO:+0100
TZNAME:CET
DTSTART:20221030T010000
END:STANDARD
END:VTIMEZONE
BEGIN:VEVENT
DTSTART;TZID=Europe/Paris:20220612T080000
DTEND;TZID=Europe/Paris:20220612T180000
DTSTAMP:20260421T070814
CREATED:20220124T133154Z
LAST-MODIFIED:20220124T133154Z
UID:8491-1655020800-1655056800@premesques.fr
SUMMARY:Elections législatives : 1er tour
DESCRIPTION:Les élections législatives servent à élire les députés. \nIls sont élus au suffrage universel direct par les électeurs français inscrits sur les listes électorales. \nLe mode de scrutin est un scrutin majoritaire à 2 tours. \nEn cas d’absence le jour des élections\, n’oubliez pas à faire votre demande de procuration sur le lien suivant www.maprocuration.gouv.fr \nVérifiez votre situation électorale\nVérifiez que vous êtes bien inscrit(e) dans votre commune ou consulat avant de vous rendre aux urnes\, grâce à l’outil en ligne proposé par service-public.fr \nCet outil vous permet aussi de prendre connaissance de votre numéro national d’électeur (NNE) -nécessaire si vous souhaitez donner procuration par exemple. \nPas encore inscrit(e) ?\nPour pouvoir voter aux élections législatives\, vous avez jusqu’au 6 mai 2022. \nComment s’inscrire ? \n\nen ligne\, grâce au téléservice disponible sur Service-Public.fr sur présentation d’un justificatif d’identité et d’un justificatif de domicile numérisés ;\nen mairie\, sur présentation d’un justificatif de domicile\, d’un justificatif d’identité et du Cerfa n°12669*02 de demande d’inscription ;\npar courrier adressé en mairie*\, en joignant un justificatif de domicile\, un justificatif d’identité et le Cerfa n° 12669*02 de demande d’inscription.\n\n 
URL:https://premesques.fr/event/elections-legislatives-1er-tour/
ATTACH;FMTTYPE=image/png:https://premesques.fr/wp-content/uploads/2022/01/ELECTIONS-2022.png
END:VEVENT
END:VCALENDAR