BEGIN:VCALENDAR
VERSION:2.0
PRODID:-//Premesques - ECPv5.7.0//NONSGML v1.0//EN
CALSCALE:GREGORIAN
METHOD:PUBLISH
X-WR-CALNAME:Premesques
X-ORIGINAL-URL:https://premesques.fr
X-WR-CALDESC:évènements pour Premesques
BEGIN:VTIMEZONE
TZID:Europe/Paris
BEGIN:DAYLIGHT
TZOFFSETFROM:+0100
TZOFFSETTO:+0200
TZNAME:CEST
DTSTART:20200329T010000
END:DAYLIGHT
BEGIN:STANDARD
TZOFFSETFROM:+0200
TZOFFSETTO:+0100
TZNAME:CET
DTSTART:20201025T010000
END:STANDARD
END:VTIMEZONE
BEGIN:VEVENT
DTSTART;TZID=Europe/Paris:20200222T080000
DTEND;TZID=Europe/Paris:20200222T120000
DTSTAMP:20260425T171738
CREATED:20200219T140533Z
LAST-MODIFIED:20200219T140644Z
UID:6261-1582358400-1582372800@premesques.fr
SUMMARY:Don du sang à Pérenchies
DESCRIPTION:Venez donner votre sang à la salle Maurice Schumann place Roger Dutriez à Pérenchies.
URL:https://premesques.fr/event/don-du-sang-a-perenchies/
END:VEVENT
END:VCALENDAR