BEGIN:VCALENDAR
VERSION:2.0
PRODID:-//Premesques - ECPv5.7.0//NONSGML v1.0//EN
CALSCALE:GREGORIAN
METHOD:PUBLISH
X-WR-CALNAME:Premesques
X-ORIGINAL-URL:https://premesques.fr
X-WR-CALDESC:évènements pour Premesques
BEGIN:VTIMEZONE
TZID:Europe/Paris
BEGIN:DAYLIGHT
TZOFFSETFROM:+0100
TZOFFSETTO:+0200
TZNAME:CEST
DTSTART:20190331T010000
END:DAYLIGHT
BEGIN:STANDARD
TZOFFSETFROM:+0200
TZOFFSETTO:+0100
TZNAME:CET
DTSTART:20191027T010000
END:STANDARD
END:VTIMEZONE
BEGIN:VEVENT
DTSTART;TZID=Europe/Paris:20190304T193000
DTEND;TZID=Europe/Paris:20190304T213000
DTSTAMP:20260425T171209
CREATED:20190226T133112Z
LAST-MODIFIED:20190226T133112Z
UID:4937-1551727800-1551735000@premesques.fr
SUMMARY:Conseil Municipal
DESCRIPTION:Le conseil municipal se réunira le lundi 4 mars 2019 à 19h30 en mairie\, salle du conseil (1er étage de la mairie). Veuillez cliquer ci-dessous pour prendre connaissance de l’ordre du jour. \nAvis CM 4 mars 2019
URL:https://premesques.fr/event/conseil-municipal-8/
LOCATION:Mairie\, 28 rue des Ecoles\, PREMESQUES\, 59840\, France
END:VEVENT
END:VCALENDAR