BEGIN:VCALENDAR
VERSION:2.0
PRODID:-//Premesques - ECPv5.7.0//NONSGML v1.0//EN
CALSCALE:GREGORIAN
METHOD:PUBLISH
X-WR-CALNAME:Premesques
X-ORIGINAL-URL:https://premesques.fr
X-WR-CALDESC:évènements pour Premesques
BEGIN:VTIMEZONE
TZID:Europe/Paris
BEGIN:DAYLIGHT
TZOFFSETFROM:+0100
TZOFFSETTO:+0200
TZNAME:CEST
DTSTART:20180325T010000
END:DAYLIGHT
BEGIN:STANDARD
TZOFFSETFROM:+0200
TZOFFSETTO:+0100
TZNAME:CET
DTSTART:20181028T010000
END:STANDARD
END:VTIMEZONE
BEGIN:VEVENT
DTSTART;TZID=Europe/Paris:20181203T193000
DTEND;TZID=Europe/Paris:20181203T213000
DTSTAMP:20260425T204339
CREATED:20181127T155023Z
LAST-MODIFIED:20181127T155232Z
UID:4746-1543865400-1543872600@premesques.fr
SUMMARY:Conseil Municipal
DESCRIPTION:Le conseil municipal se réunira le lundi 3 décembre 2018 à 19h30 en mairie à la salle du conseil. Veuillez cliquer ci-dessous pour prendre connaissance de l’ordre du jour. \nAvis de Conseil 03 décembre 2018
URL:https://premesques.fr/event/conseil-municipal-7/
END:VEVENT
END:VCALENDAR