BEGIN:VCALENDAR
VERSION:2.0
PRODID:-//Premesques - ECPv5.7.0//NONSGML v1.0//EN
CALSCALE:GREGORIAN
METHOD:PUBLISH
X-WR-CALNAME:Premesques
X-ORIGINAL-URL:https://premesques.fr
X-WR-CALDESC:évènements pour Premesques
BEGIN:VTIMEZONE
TZID:Europe/Paris
BEGIN:DAYLIGHT
TZOFFSETFROM:+0100
TZOFFSETTO:+0200
TZNAME:CEST
DTSTART:20200329T010000
END:DAYLIGHT
BEGIN:STANDARD
TZOFFSETFROM:+0200
TZOFFSETTO:+0100
TZNAME:CET
DTSTART:20201025T010000
END:STANDARD
END:VTIMEZONE
BEGIN:VEVENT
DTSTART;TZID=Europe/Paris:20200210T193000
DTEND;TZID=Europe/Paris:20200210T210000
DTSTAMP:20260425T140855
CREATED:20200127T103804Z
LAST-MODIFIED:20200204T091610Z
UID:6195-1581363000-1581368400@premesques.fr
SUMMARY:Conseil Municipal
DESCRIPTION:Le conseil municipal se réunira le lundi 10 février 2020 à 19h30 en mairie\, salle du conseil (1er étage de la mairie).
URL:https://premesques.fr/event/conseil-municipal-12/
LOCATION:Mairie\, 28 rue des Ecoles\, PREMESQUES\, 59840\, France
ATTACH;FMTTYPE=image/jpeg:https://premesques.fr/wp-content/uploads/2019/09/conseil-municipal-2.jpg
END:VEVENT
END:VCALENDAR