BEGIN:VCALENDAR
VERSION:2.0
PRODID:-//Premesques - ECPv5.7.0//NONSGML v1.0//EN
CALSCALE:GREGORIAN
METHOD:PUBLISH
X-WR-CALNAME:Premesques
X-ORIGINAL-URL:https://premesques.fr
X-WR-CALDESC:évènements pour Premesques
BEGIN:VTIMEZONE
TZID:Europe/Paris
BEGIN:DAYLIGHT
TZOFFSETFROM:+0100
TZOFFSETTO:+0200
TZNAME:CEST
DTSTART:20260329T010000
END:DAYLIGHT
BEGIN:STANDARD
TZOFFSETFROM:+0200
TZOFFSETTO:+0100
TZNAME:CET
DTSTART:20261025T010000
END:STANDARD
END:VTIMEZONE
BEGIN:VEVENT
DTSTART;TZID=Europe/Paris:20260508T110000
DTEND;TZID=Europe/Paris:20260508T130000
DTSTAMP:20260423T164636
CREATED:20260423T083923Z
LAST-MODIFIED:20260423T083923Z
UID:13187-1778238000-1778245200@premesques.fr
SUMMARY:Cérémonie du 8 mai 1945 : mémoire et hommage
DESCRIPTION:La Ville de Prémesques vous invite à participer à la cérémonie commémorative du 8 mai 1945\, qui se tiendra le vendredi 8 mai à 11h00 au monument aux morts\, place Jean-Baptiste Lebas. \nCette date marque la fin de la Seconde Guerre mondiale en Europe et la victoire des forces alliées sur le nazisme\, après des années de conflit qui ont profondément marqué notre pays et le monde. Elle reste un moment essentiel de notre mémoire collective\, pour rendre hommage à toutes celles et ceux qui ont combattu\, résisté et souffert pour défendre la liberté. \nLa cérémonie se déroulera en plusieurs temps : lecture de messages officiels\, évocation historique\, dépôt de gerbe au monument aux morts\, avant un moment de convivialité partagé au restaurant scolaire. \nAu-delà du souvenir\, ce temps de rassemblement est l’occasion de transmettre aux jeunes générations les valeurs de paix\, de solidarité et de liberté qui fondent notre société. \nLa municipalité compte sur la présence de chacun pour faire vivre ce devoir de mémoire.
URL:https://premesques.fr/event/ceremonie-du-8-mai-1945-memoire-et-hommage/
LOCATION:Monument aux Morts\, Place Jean-Baptiste LEBAS\, PREMESQUES\, 59840\, France
ATTACH;FMTTYPE=image/png:https://premesques.fr/wp-content/uploads/2026/04/Capture-du-2020-04-29-18-35-21.png
END:VEVENT
END:VCALENDAR