BEGIN:VCALENDAR
VERSION:2.0
PRODID:-//Premesques - ECPv5.7.0//NONSGML v1.0//EN
CALSCALE:GREGORIAN
METHOD:PUBLISH
X-WR-CALNAME:Premesques
X-ORIGINAL-URL:https://premesques.fr
X-WR-CALDESC:évènements pour Premesques
BEGIN:VTIMEZONE
TZID:Europe/Paris
BEGIN:DAYLIGHT
TZOFFSETFROM:+0100
TZOFFSETTO:+0200
TZNAME:CEST
DTSTART:20250330T010000
END:DAYLIGHT
BEGIN:STANDARD
TZOFFSETFROM:+0200
TZOFFSETTO:+0100
TZNAME:CET
DTSTART:20251026T010000
END:STANDARD
END:VTIMEZONE
BEGIN:VEVENT
DTSTART;TZID=Europe/Paris:20250524T190000
DTEND;TZID=Europe/Paris:20250524T233000
DTSTAMP:20260426T010414
CREATED:20250423T135347Z
LAST-MODIFIED:20250423T135347Z
UID:12181-1748113200-1748129400@premesques.fr
SUMMARY:Bal Folk - Samedi 24 mai à la salle Saint-Laurent
DESCRIPTION:L’association Prémesques Musique vous invite à son bal folk traditionnel le samedi 24 mai à 20h\, à la salle Saint-Laurent\, place Jean-Baptiste Lebas. \nCet événement festif et ouvert à tous est l’occasion idéale de venir découvrir ou redécouvrir les danses folk dans une ambiance chaleureuse et conviviale. Que vous soyez danseur confirmé ou simple curieux\, vous êtes les bienvenus pour partager ce moment de musique et de bonne humeur. \nOuverture des portes à 19h. Un bar ainsi qu’une petite restauration seront proposés sur place pour prolonger la soirée autour d’un verre ou d’une assiette gourmande. \n\nTarifs : \n\n\n8 € sur place \n\n\n6 € en prévente sur HelloAsso \n\n\nGratuit pour les moins de 12 ans. \n\n\n\nN’hésitez pas à venir en famille ou entre amis\, pour danser\, vous amuser et profiter d’une belle soirée rythmée par les sonorités entraînantes de la musique folk. \n\nNous vous attendons nombreux !
URL:https://premesques.fr/event/bal-folk-samedi-24-mai-a-la-salle-saint-laurent/
LOCATION:Salle Saint-Laurent\, place Jean-Baptiste Lebas\, PREMESQUES\, 59840\, France
ATTACH;FMTTYPE=image/png:https://premesques.fr/wp-content/uploads/2025/04/Logo-asso.png
END:VEVENT
END:VCALENDAR